{
 "currentVersion": 10.91,
 "serviceDescription": "Aerial Photo of the Middle Rio Grande Area from 1984",
 "name": "Aerial/mrg_1984_ap",
 "description": "Aerial Photo of the Middle Rio Grande Area from 1984",
 "extent": {
  "xmin": 289059,
  "ymin": 3665598,
  "xmax": 398791,
  "ymax": 3977168,
  "spatialReference": {
   "wkid": 26913,
   "latestWkid": 26913
  }
 },
 "initialExtent": {
  "xmin": 289059,
  "ymin": 3665598,
  "xmax": 398791,
  "ymax": 3977168,
  "spatialReference": {
   "wkid": 26913,
   "latestWkid": 26913
  }
 },
 "fullExtent": {
  "xmin": 289059,
  "ymin": 3665598,
  "xmax": 398791,
  "ymax": 3977168,
  "spatialReference": {
   "wkid": 26913,
   "latestWkid": 26913
  }
 },
 "pixelSizeX": 2,
 "pixelSizeY": 2,
 "bandCount": 3,
 "pixelType": "U8",
 "minPixelSize": 0,
 "maxPixelSize": 0,
 "copyrightText": "OSE GIS",
 "serviceDataType": "esriImageServiceDataTypeRGB",
 "minValues": [
  1,
  1,
  1
 ],
 "maxValues": [
  255,
  255,
  255
 ],
 "meanValues": [
  137.39386446134,
  151.66993413857,
  146.03120961904
 ],
 "stdvValues": [
  61.320513952321,
  59.358286574665,
  60.796653921214
 ],
 "objectIdField": "",
 "fields": [],
 "capabilities": "Image,Metadata,Mensuration",
 "defaultMosaicMethod": "Center",
 "allowedMosaicMethods": "",
 "sortField": "",
 "sortValue": null,
 "sortAscending": true,
 "mosaicOperator": "First",
 "defaultCompressionQuality": 75,
 "defaultResamplingMethod": "Bilinear",
 "maxImageHeight": 4100,
 "maxImageWidth": 15000,
 "allowRasterFunction": true,
 "rasterFunctionInfos": [
  {
   "name": "None",
   "description": "",
   "help": ""
  }
 ],
 "rasterTypeInfos": [
  {
   "name": "Raster Dataset",
   "description": "Supports all ArcGIS Raster Datasets",
   "help": ""
  }
 ],
 "mensurationCapabilities": "Basic",
 "hasHistograms": true,
 "hasColormap": false,
 "hasRasterAttributeTable": false,
 "minScale": 0,
 "maxScale": 0,
 "exportTilesAllowed": false,
 "hasMultidimensions": false,
 "supportsStatistics": false,
 "supportsAdvancedQueries": false,
 "editFieldsInfo": null,
 "ownershipBasedAccessControlForRasters": null,
 "allowComputeTiePoints": false,
 "useStandardizedQueries": true,
 "advancedQueryCapabilities": {
  "useStandardizedQueries": true,
  "supportsStatistics": false,
  "supportsOrderBy": false,
  "supportsDistinct": false,
  "supportsPagination": false
 },
 "spatialReference": {
  "wkid": 26913,
  "latestWkid": 26913
 }
}
