{ "currentVersion": 10.91, "serviceDescription": "
Hydrographic Survey of the Pecos River system of ground water pumpers conducted in 1979 under SE Reynolds, State Engineer<\/SPAN>Pecos River Pump Section T. 4 S. Through T. 17 S.<\/SPAN><\/P> scale 1:400<\/SPAN><\/P><\/DIV><\/DIV><\/DIV>",
"name": "HydrographicSurvey/Pecos_River_Pumpers_1979",
"description": " Hydrographic Survey of the Pecos River system of ground water pumpers conducted in 1979 under SE Reynolds, State Engineer<\/SPAN>Pecos River Pump Section T. 4 S. Through T. 17 S.<\/SPAN><\/P> scale 1:400<\/SPAN><\/P><\/DIV><\/DIV><\/DIV>",
"extent": {
"xmin": 558465.8461466954,
"ymin": 3634838.76393187,
"xmax": 570408.6006329712,
"ymax": 3673926.653750319,
"spatialReference": {
"wkid": 26913,
"latestWkid": 26913
}
},
"initialExtent": {
"xmin": 558465.8461466954,
"ymin": 3634838.76393187,
"xmax": 570408.6006329712,
"ymax": 3673926.653750319,
"spatialReference": {
"wkid": 26913,
"latestWkid": 26913
}
},
"fullExtent": {
"xmin": 558465.8461466954,
"ymin": 3634838.76393187,
"xmax": 570408.6006329712,
"ymax": 3673926.653750319,
"spatialReference": {
"wkid": 26913,
"latestWkid": 26913
}
},
"pixelSizeX": 0.3002880110199824,
"pixelSizeY": 0.30028801101998215,
"bandCount": 1,
"pixelType": "U1",
"minPixelSize": 0,
"maxPixelSize": 0,
"copyrightText": "OSE HSB, OSE GIS, NMSU SpARC",
"serviceDataType": "esriImageServiceDataTypeGeneric",
"minValues": [],
"maxValues": [],
"meanValues": [],
"stdvValues": [],
"objectIdField": "OBJECTID",
"fields": [
{
"name": "OBJECTID",
"type": "esriFieldTypeOID",
"alias": "OBJECTID",
"domain": null
},
{
"name": "Shape",
"type": "esriFieldTypeGeometry",
"alias": "Shape",
"domain": null
},
{
"name": "Name",
"type": "esriFieldTypeString",
"alias": "Name",
"domain": null,
"length": 200
},
{
"name": "MinPS",
"type": "esriFieldTypeDouble",
"alias": "MinPS",
"domain": null
},
{
"name": "MaxPS",
"type": "esriFieldTypeDouble",
"alias": "MaxPS",
"domain": null
},
{
"name": "LowPS",
"type": "esriFieldTypeDouble",
"alias": "LowPS",
"domain": null
},
{
"name": "HighPS",
"type": "esriFieldTypeDouble",
"alias": "HighPS",
"domain": null
},
{
"name": "Category",
"type": "esriFieldTypeInteger",
"alias": "Category",
"domain": {
"type": "codedValue",
"name": "MosaicCatalogItemCategoryDomain",
"description": "Catalog item categories.",
"codedValues": [
{
"name": "Unknown",
"code": 0
},
{
"name": "Primary",
"code": 1
},
{
"name": "Overview",
"code": 2
},
{
"name": "Unprocessed Overview",
"code": 3
},
{
"name": "Partial Overview",
"code": 4
},
{
"name": "Inactive",
"code": 5
},
{
"name": "Uploaded",
"code": 253
},
{
"name": "Incomplete",
"code": 254
},
{
"name": "Custom",
"code": 255
}
],
"mergePolicy": "esriMPTDefaultValue",
"splitPolicy": "esriSPTDefaultValue"
}
},
{
"name": "Tag",
"type": "esriFieldTypeString",
"alias": "Tag",
"domain": null,
"length": 100
},
{
"name": "GroupName",
"type": "esriFieldTypeString",
"alias": "GroupName",
"domain": null,
"length": 100
},
{
"name": "ProductName",
"type": "esriFieldTypeString",
"alias": "ProductName",
"domain": null,
"length": 100
},
{
"name": "CenterX",
"type": "esriFieldTypeDouble",
"alias": "CenterX",
"domain": null
},
{
"name": "CenterY",
"type": "esriFieldTypeDouble",
"alias": "CenterY",
"domain": null
},
{
"name": "ZOrder",
"type": "esriFieldTypeInteger",
"alias": "ZOrder",
"domain": null
},
{
"name": "Shape_Length",
"type": "esriFieldTypeDouble",
"alias": "Shape_Length",
"domain": null
},
{
"name": "Shape_Area",
"type": "esriFieldTypeDouble",
"alias": "Shape_Area",
"domain": null
}
],
"capabilities": "Image,Metadata,Catalog,Mensuration",
"defaultMosaicMethod": "Northwest",
"allowedMosaicMethods": "NorthWest,Center,LockRaster,ByAttribute,Nadir,Viewpoint,Seamline,None",
"sortField": "",
"sortValue": null,
"sortAscending": true,
"mosaicOperator": "First",
"maxDownloadSizeLimit": 2048,
"defaultCompressionQuality": 75,
"defaultResamplingMethod": "Bilinear",
"maxImageHeight": 4100,
"maxImageWidth": 15000,
"maxRecordCount": 1000,
"maxDownloadImageCount": 20,
"maxMosaicImageCount": 20,
"allowRasterFunction": true,
"rasterFunctionInfos": [
{
"name": "None",
"description": "",
"help": ""
}
],
"rasterTypeInfos": [
{
"name": "Raster Dataset",
"description": "Supports all ArcGIS Raster Datasets",
"help": ""
}
],
"mensurationCapabilities": "Basic",
"hasHistograms": false,
"hasColormap": false,
"hasRasterAttributeTable": false,
"minScale": 0,
"maxScale": 0,
"exportTilesAllowed": false,
"hasMultidimensions": false,
"supportsStatistics": true,
"supportsAdvancedQueries": true,
"editFieldsInfo": null,
"ownershipBasedAccessControlForRasters": null,
"allowComputeTiePoints": false,
"useStandardizedQueries": true,
"advancedQueryCapabilities": {
"useStandardizedQueries": true,
"supportsStatistics": true,
"supportsOrderBy": true,
"supportsDistinct": true,
"supportsPagination": true
},
"spatialReference": {
"wkid": 26913,
"latestWkid": 26913
}
}