View In:
ArcGIS JavaScript
ArcGIS Online Map Viewer
ArcGIS Earth
ArcMap
View Footprint In:
ArcGIS Online Map Viewer
Service Description: DOQQ of Middle Rio Grande area from 2005
(needs to be cliped down to the boundary of the MRGCD to improve performance)
Name: Aerial/mrg_2005_ap
Description: DOQQ of Middle Rio Grande area from 2005
(needs to be cliped down to the boundary of the MRGCD to improve performance)
Single Fused Map Cache: false
Extent:
XMin: 219391.8889171118
YMin: 3651427.9358225376
XMax: 410174.05173143744
YMax: 3987003.88197443
Spatial Reference: 26913
(26913)
Initial Extent:
XMin: 219391.8889171118
YMin: 3651427.9358225376
XMax: 410174.05173143744
YMax: 3987003.88197443
Spatial Reference: 26913
(26913)
Full Extent:
XMin: 219391.8889171118
YMin: 3651427.9358225376
XMax: 410174.05173143744
YMax: 3987003.88197443
Spatial Reference: 26913
(26913)
Pixel Size X: 0.26458386250105836
Pixel Size Y: 0.26458386250105825
Band Count: 3
Pixel Type: U8
RasterFunction Infos: {"rasterFunctionInfos": [{
"name": "None",
"description": "",
"help": ""
}]}
Mensuration Capabilities: Basic
Has Histograms: false
Has Colormap: false
Has Multi Dimensions : false
Rendering Rule:
Min Scale: 0
Max Scale: 0
Copyright Text: OSE GIS
Service Data Type: esriImageServiceDataTypeRGB
Min Values: N/A
Max Values: N/A
Mean Values: N/A
Standard Deviation Values: N/A
Object ID Field:
Fields:
None
Default Mosaic Method: Center
Allowed Mosaic Methods:
SortField:
SortValue: null
Mosaic Operator: First
Default Compression Quality: 75
Default Resampling Method: Bilinear
Max Record Count: null
Max Image Height: 4100
Max Image Width: 15000
Max Download Image Count: null
Max Mosaic Image Count: null
Allow Raster Function: true
Allow Copy: null
Allow Analysis: null
Allow Compute TiePoints: false
Supports Statistics: false
Supports Advanced Queries: false
Use StandardizedQueries: true
Raster Type Infos:
Name: Raster Dataset
Description: Supports all ArcGIS Raster Datasets
Help:
Has Raster Attribute Table: false
Edit Fields Info: null
Ownership Based AccessControl For Rasters: null
Child Resources:
Info
Key Properties
Legend
Raster Function Infos
Supported Operations:
Export Image
Identify
Measure
Compute Histograms
Compute Statistics Histograms
Get Samples
Compute Class Statistics
Query Boundary
Compute Pixel Location
Compute Angles
Validate
Project