View In:
ArcGIS JavaScript
ArcGIS Online Map Viewer
ArcGIS Earth
ArcMap
View Footprint In:
ArcGIS Online Map Viewer
Service Description: Hydrographic Survey of the Chama Basin Area of the Cañones and Polvadera conducted in 1973.
Stereocompilation of planimetry from Photo F-6-222 & 223
Engineer: E.L. Martinez
Surveyor: E.C. Cooper
Stereocompilation: J.L. Thomas
Traced by: I.M. Powell
State Engineer Stephen E. Reynolds
Name: HydrographicSurvey/ChamaCanonesandPolvadera
Description: Hydrographic Survey of the Chama Basin Area of the Cañones and Polvadera conducted in 1973.
Stereocompilation of planimetry from Photo F-6-222 & 223
Engineer: E.L. Martinez
Surveyor: E.C. Cooper
Stereocompilation: J.L. Thomas
Traced by: I.M. Powell
State Engineer Stephen E. Reynolds
Single Fused Map Cache: false
Extent:
XMin: 367620.28830769635
YMin: 3996848.5218564877
XMax: 372872.82146325894
YMax: 4008330.92313747
Spatial Reference: 26913
(26913)
Initial Extent:
XMin: 367620.28830769635
YMin: 3996848.5218564877
XMax: 372872.82146325894
YMax: 4008330.92313747
Spatial Reference: 26913
(26913)
Full Extent:
XMin: 367620.28830769635
YMin: 3996848.5218564877
XMax: 372872.82146325894
YMax: 4008330.92313747
Spatial Reference: 26913
(26913)
Pixel Size X: 0.1468131245091145
Pixel Size Y: 0.14681312450911535
Band Count: 1
Pixel Type: U1
RasterFunction Infos: {"rasterFunctionInfos": [{
"name": "None",
"description": "",
"help": ""
}]}
Mensuration Capabilities: None
Has Histograms: true
Has Colormap: false
Has Multi Dimensions : false
Rendering Rule:
Min Scale: 0
Max Scale: 0
Copyright Text: OSE GIS, OSE HSB, UNM EDAC
Service Data Type: esriImageServiceDataTypeGeneric
Min Values: 0
Max Values: 1
Mean Values: 0.973718287382715
Standard Deviation Values: 0.15997182318212821
Object ID Field: OBJECTID
Fields:
-
OBJECTID
(
type: esriFieldTypeOID, alias: OBJECTID
)
-
Shape
(
type: esriFieldTypeGeometry, alias: Shape
)
-
Name
(
type: esriFieldTypeString, alias: Name, length: 200
)
-
MinPS
(
type: esriFieldTypeDouble, alias: MinPS
)
-
MaxPS
(
type: esriFieldTypeDouble, alias: MaxPS
)
-
LowPS
(
type: esriFieldTypeDouble, alias: LowPS
)
-
HighPS
(
type: esriFieldTypeDouble, alias: HighPS
)
-
Category
(
type: esriFieldTypeInteger, alias: Category
, Coded Values:
[0: Unknown]
, [1: Primary]
, [2: Overview]
, ...6 more...
)
-
Tag
(
type: esriFieldTypeString, alias: Tag, length: 100
)
-
GroupName
(
type: esriFieldTypeString, alias: GroupName, length: 100
)
-
ProductName
(
type: esriFieldTypeString, alias: ProductName, length: 100
)
-
CenterX
(
type: esriFieldTypeDouble, alias: CenterX
)
-
CenterY
(
type: esriFieldTypeDouble, alias: CenterY
)
-
ZOrder
(
type: esriFieldTypeInteger, alias: ZOrder
)
-
Shape_Length
(
type: esriFieldTypeDouble, alias: Shape_Length
)
-
Shape_Area
(
type: esriFieldTypeDouble, alias: Shape_Area
)
Default Mosaic Method: Northwest
Allowed Mosaic Methods: NorthWest,Center,LockRaster,ByAttribute,Nadir,Viewpoint,Seamline,None
SortField:
SortValue: null
Mosaic Operator: First
Default Compression Quality: 75
Default Resampling Method: Bilinear
Max Record Count: 1000
Max Image Height: 4100
Max Image Width: 15000
Max Download Image Count: 20
Max Mosaic Image Count: 20
Allow Raster Function: true
Allow Copy: null
Allow Analysis: null
Allow Compute TiePoints: false
Supports Statistics: true
Supports Advanced Queries: true
Use StandardizedQueries: true
Raster Type Infos:
Name: Raster Dataset
Description: Supports all ArcGIS Raster Datasets
Help:
Has Raster Attribute Table: false
Edit Fields Info: null
Ownership Based AccessControl For Rasters: null
Child Resources:
Info
Histograms
Key Properties
Legend
Raster Function Infos
Supported Operations:
Export Image
Query
Identify
Compute Histograms
Compute Statistics Histograms
Get Samples
Compute Class Statistics
Query Boundary
Compute Pixel Location
Compute Angles
Validate
Project