View In:
ArcGIS JavaScript
ArcGIS Online Map Viewer
ArcGIS Earth
ArcMap
View Footprint In:
ArcGIS Online Map Viewer
Service Description: HydrographicSurvey/Duckcreek_Keymap
Name: HydrographicSurvey/Duckcreek_Keymap
Description:
Single Fused Map Cache: false
Extent:
XMin: 150552.42974463385
YMin: 3633450.480818691
XMax: 174778.94482856453
YMax: 3666752.1889670407
Spatial Reference: 26913
(26913)
Initial Extent:
XMin: 150552.42974463385
YMin: 3633450.480818691
XMax: 174778.94482856453
YMax: 3666752.1889670407
Spatial Reference: 26913
(26913)
Full Extent:
XMin: 150552.42974463385
YMin: 3633450.480818691
XMax: 174778.94482856453
YMax: 3666752.1889670407
Spatial Reference: 26913
(26913)
Pixel Size X: 2.4998983679631297
Pixel Size Y: 2.31519105591974
Band Count: 1
Pixel Type: U1
RasterFunction Infos: {"rasterFunctionInfos": [{
"name": "None",
"description": "",
"help": ""
}]}
Mensuration Capabilities: Basic
Has Histograms: true
Has Colormap: false
Has Multi Dimensions : false
Rendering Rule:
Min Scale: 0
Max Scale: 0
Copyright Text:
Service Data Type: esriImageServiceDataTypeThematic
Min Values: 0
Max Values: 1
Mean Values: 0.9563733593555589
Standard Deviation Values: 0.20426296092931692
Object ID Field:
Fields:
None
Default Mosaic Method: Center
Allowed Mosaic Methods:
SortField:
SortValue: null
Mosaic Operator: First
Default Compression Quality: 75
Default Resampling Method: Bilinear
Max Record Count: null
Max Image Height: 4100
Max Image Width: 15000
Max Download Image Count: null
Max Mosaic Image Count: null
Allow Raster Function: true
Allow Copy: true
Allow Analysis: true
Allow Compute TiePoints: false
Supports Statistics: false
Supports Advanced Queries: false
Use StandardizedQueries: true
Raster Type Infos:
Name: Raster Dataset
Description: Supports all ArcGIS Raster Datasets
Help:
Has Raster Attribute Table: false
Edit Fields Info: null
Ownership Based AccessControl For Rasters: null
Child Resources:
Info
Histograms
Statistics
Key Properties
Legend
Raster Function Infos
Supported Operations:
Export Image
Identify
Measure
Compute Histograms
Compute Statistics Histograms
Get Samples
Compute Class Statistics
Query Boundary
Compute Pixel Location
Compute Angles
Validate
Project