View In:
ArcGIS JavaScript
ArcGIS Online Map Viewer
ArcGIS Earth
ArcMap
View Footprint In:
ArcGIS Online Map Viewer
Service Description: Hydrographic Survey was created using a stereocompulation of planitetry from Photos 602-22-4,5
Scale 1:900
Field Check photo enlargement No 602-22-4,5
San Juan River Stream System Navajo River Section
Engineer E. L Martinez, Surveyor E.C. Cooper, Stereocompilation J.L Thomas, Traced by S. J. Salazar
Name: HydrographicSurvey/NavajoRiver_1980
Description: Hydrographic Survey was created using a stereocompulation of planitetry from Photos 602-22-4,5
Scale 1:900
Field Check photo enlargement No 602-22-4,5
San Juan River Stream System Navajo River Section
Engineer E. L Martinez, Surveyor E.C. Cooper, Stereocompilation J.L Thomas, Traced by S. J. Salazar
Single Fused Map Cache: false
Extent:
XMin: 320796.85127127165
YMin: 4086527.2043546783
XMax: 331027.7536198265
YMax: 4097557.2217022325
Spatial Reference: 26913
(26913)
Initial Extent:
XMin: 320796.85127127165
YMin: 4086527.2043546783
XMax: 331027.7536198265
YMax: 4097557.2217022325
Spatial Reference: 26913
(26913)
Full Extent:
XMin: 320796.85127127165
YMin: 4086527.2043546783
XMax: 331027.7536198265
YMax: 4097557.2217022325
Spatial Reference: 26913
(26913)
Pixel Size X: 0.29346860044044715
Pixel Size Y: 0.29346860044044726
Band Count: 1
Pixel Type: U1
RasterFunction Infos: {"rasterFunctionInfos": [{
"name": "None",
"description": "",
"help": ""
}]}
Mensuration Capabilities: None
Has Histograms: true
Has Colormap: false
Has Multi Dimensions : false
Rendering Rule:
Min Scale: 0
Max Scale: 0
Copyright Text: OSE HSB, OSE GIS, UNM EDAC
Service Data Type: esriImageServiceDataTypeGeneric
Min Values: 0
Max Values: 1
Mean Values: 0.9638515188554948
Standard Deviation Values: 0.18665949900501014
Object ID Field: OBJECTID
Fields:
-
OBJECTID
(
type: esriFieldTypeOID, alias: OBJECTID
)
-
Shape
(
type: esriFieldTypeGeometry, alias: Shape
)
-
Name
(
type: esriFieldTypeString, alias: Name, length: 200
)
-
MinPS
(
type: esriFieldTypeDouble, alias: MinPS
)
-
MaxPS
(
type: esriFieldTypeDouble, alias: MaxPS
)
-
LowPS
(
type: esriFieldTypeDouble, alias: LowPS
)
-
HighPS
(
type: esriFieldTypeDouble, alias: HighPS
)
-
Category
(
type: esriFieldTypeInteger, alias: Category
, Coded Values:
[0: Unknown]
, [1: Primary]
, [2: Overview]
, ...6 more...
)
-
Tag
(
type: esriFieldTypeString, alias: Tag, length: 100
)
-
GroupName
(
type: esriFieldTypeString, alias: GroupName, length: 100
)
-
ProductName
(
type: esriFieldTypeString, alias: ProductName, length: 100
)
-
CenterX
(
type: esriFieldTypeDouble, alias: CenterX
)
-
CenterY
(
type: esriFieldTypeDouble, alias: CenterY
)
-
ZOrder
(
type: esriFieldTypeInteger, alias: ZOrder
)
-
Shape_Length
(
type: esriFieldTypeDouble, alias: Shape_Length
)
-
Shape_Area
(
type: esriFieldTypeDouble, alias: Shape_Area
)
Default Mosaic Method: Northwest
Allowed Mosaic Methods: NorthWest,Center,LockRaster,ByAttribute,Nadir,Viewpoint,Seamline,None
SortField:
SortValue: null
Mosaic Operator: First
Default Compression Quality: 75
Default Resampling Method: Bilinear
Max Record Count: 1000
Max Image Height: 4100
Max Image Width: 15000
Max Download Image Count: 20
Max Mosaic Image Count: 20
Allow Raster Function: true
Allow Copy: null
Allow Analysis: null
Allow Compute TiePoints: false
Supports Statistics: true
Supports Advanced Queries: true
Use StandardizedQueries: true
Raster Type Infos:
Name: Raster Dataset
Description: Supports all ArcGIS Raster Datasets
Help:
Has Raster Attribute Table: false
Edit Fields Info: null
Ownership Based AccessControl For Rasters: null
Child Resources:
Info
Histograms
Key Properties
Legend
Raster Function Infos
Supported Operations:
Export Image
Query
Identify
Compute Histograms
Compute Statistics Histograms
Get Samples
Compute Class Statistics
Query Boundary
Compute Pixel Location
Compute Angles
Validate
Project